BEGIN:VCALENDAR
VERSION:2.0
PRODID:-//Tukios.com/
BEGIN:VEVENT
UID:f91961cc-4065-49e3-9d59-6d41ba07cde8@www.gardfuneralhome.com
DTSTAMP:20260425T175236Z
DTSTART:20260531T180000Z
DTEND:20260531T190000Z
SUMMARY:Celebration of Life
DESCRIPTION:
URL:https://www.gardfuneralhome.com/obituaries/alan-coveney
LOCATION:Lakengren Marina 869 E Lakengren Dr  Eaton OH 45320
GEO:39.6757404;-84.6821129
END:VEVENT
END:VCALENDAR