BEGIN:VCALENDAR
VERSION:2.0
PRODID:-//Tukios.com/
BEGIN:VEVENT
UID:e2f02c5b-376a-43c0-93da-d5fd7870d86f@www.gardfuneralhome.com
DTSTAMP:20260423T222947Z
DTSTART:20260429T150000Z
DTEND:20260429T170000Z
SUMMARY:Visitation
DESCRIPTION:
URL:https://www.gardfuneralhome.com/obituaries/dale-lanthrop
LOCATION: 226 West Main Street  Eaton OH 45320
GEO:39.7440989;-84.6395146
END:VEVENT
END:VCALENDAR