BEGIN:VCALENDAR
VERSION:2.0
PRODID:-//Tukios.com/
BEGIN:VEVENT
UID:e42937f1-af27-4d47-a895-8b41f3e6dcbf@www.gardfuneralhome.com
DTSTAMP:20260423T222915Z
DTSTART:20260429T170000Z
DTEND:20260429T180000Z
SUMMARY:Funeral Service
DESCRIPTION:
URL:https://www.gardfuneralhome.com/obituaries/dale-lanthrop
LOCATION: 226 West Main Street  Eaton OH 45320
GEO:39.7440989;-84.6395146
END:VEVENT
END:VCALENDAR