BEGIN:VCALENDAR
VERSION:2.0
PRODID:-//Tukios.com/
BEGIN:VEVENT
UID:208d8dc1-1f98-46ee-8430-03c38d1cfb21@www.gardfuneralhome.com
DTSTAMP:20260423T222543Z
DTSTART:20260429T180000Z
DTEND:20260429T190000Z
SUMMARY:Burial
DESCRIPTION:
URL:https://www.gardfuneralhome.com/obituaries/dale-lanthrop
LOCATION: 130 Camden Road  Eaton OH 45320
GEO:39.7433715;-84.6504609
END:VEVENT
END:VCALENDAR