BEGIN:VCALENDAR
VERSION:2.0
PRODID:-//Tukios.com/
BEGIN:VEVENT
UID:6523c3cf-2035-413e-a304-82defbd2e9a1@www.gardfuneralhome.com
DTSTAMP:20260425T214849Z
DTSTART:20260620T140000Z
DTEND:20260620T170000Z
SUMMARY:Celebration of Life
DESCRIPTION:
URL:https://www.gardfuneralhome.com/obituaries/gerald-feix
LOCATION:Gard Funeral Home & Cremation Services 226 West Main Street  
	Eaton OH 45320
GEO:39.7440989;-84.6395146
END:VEVENT
END:VCALENDAR