BEGIN:VCALENDAR
VERSION:2.0
PRODID:-//Tukios.com/
BEGIN:VEVENT
UID:2d2c4337-e518-4e02-bfc7-ecd1c7f1f772@www.gardfuneralhome.com
DTSTAMP:20260423T001437Z
DTSTART:20260428T140000Z
DTEND:20260428T153000Z
SUMMARY:Visitation
DESCRIPTION:
URL:https://www.gardfuneralhome.com/obituaries/karen-rosfeld
LOCATION: 4745 US Route 127 North  Eaton OH 45320
GEO:39.8108931;-84.6309042
END:VEVENT
END:VCALENDAR