BEGIN:VCALENDAR
VERSION:2.0
PRODID:-//Tukios.com/
BEGIN:VEVENT
UID:789da5e5-ab03-4c30-977a-796c87cdf56f@www.gardfuneralhome.com
DTSTAMP:20260423T001350Z
DTSTART:20260428T153000Z
DTEND:20260428T163000Z
SUMMARY:Funeral Service
DESCRIPTION:
URL:https://www.gardfuneralhome.com/obituaries/karen-rosfeld
LOCATION: 4745 US Route 127 North  Eaton OH 45320
GEO:39.8108931;-84.6309042
END:VEVENT
END:VCALENDAR