BEGIN:VCALENDAR
VERSION:2.0
PRODID:-//Tukios.com/
BEGIN:VEVENT
UID:d64ceb27-6819-4c9f-869c-23899c3f6d08@www.gardfuneralhome.com
DTSTAMP:20260423T001105Z
DTSTART:20260428T171500Z
DTEND:20260428T181500Z
SUMMARY:Burial
DESCRIPTION:
URL:https://www.gardfuneralhome.com/obituaries/karen-rosfeld
LOCATION: 601 N. Main Street  Lewisburg OH 45338
GEO:39.8504168;-84.5394685
END:VEVENT
END:VCALENDAR