BEGIN:VCALENDAR
VERSION:2.0
PRODID:-//Tukios.com/
BEGIN:VEVENT
UID:24fc56d5-8792-42d4-85fc-38a1e52a0911@www.gardfuneralhome.com
DTSTAMP:20260425T195541Z
DTSTART:20260501T160000Z
DTEND:20260501T170000Z
SUMMARY:Visitation
DESCRIPTION:
URL:https://www.gardfuneralhome.com/obituaries/larry-marcum
LOCATION:Gard Funeral Home 226 West Main Street  Eaton OH 45320
GEO:39.7440989;-84.6395146
END:VEVENT
END:VCALENDAR