BEGIN:VCALENDAR
VERSION:2.0
PRODID:-//Tukios.com/
BEGIN:VEVENT
UID:c2242bdf-e83f-47fb-90ff-cbdbe0957fb1@www.gardfuneralhome.com
DTSTAMP:20260425T195619Z
DTSTART:20260501T170000Z
DTEND:20260501T180000Z
SUMMARY:Funeral Service
DESCRIPTION:
URL:https://www.gardfuneralhome.com/obituaries/larry-marcum
LOCATION:Gard Funeral Home 226 West Main Street  Eaton OH 45320
GEO:39.7440989;-84.6395146
END:VEVENT
END:VCALENDAR