BEGIN:VCALENDAR
VERSION:2.0
PRODID:-//Tukios.com/
BEGIN:VEVENT
UID:7fbe21e0-87bd-403e-a25b-62b15bf1fa16@www.gardfuneralhome.com
DTSTAMP:20260425T195525Z
DTSTART:20260501T181500Z
DTEND:20260501T191500Z
SUMMARY:Burial
DESCRIPTION:
URL:https://www.gardfuneralhome.com/obituaries/larry-marcum
LOCATION: 643 State Route 503 South  West Alexandria OH 45381
GEO:39.7356873;-84.5323523
END:VEVENT
END:VCALENDAR