BEGIN:VCALENDAR
VERSION:2.0
PRODID:-//Tukios.com/
BEGIN:VEVENT
UID:d49b77ff-20ca-469c-aafa-49127079d71c@www.gardfuneralhome.com
DTSTAMP:20260423T003942Z
DTSTART:20260502T173000Z
DTEND:20260502T190000Z
SUMMARY:Visitation
DESCRIPTION:
URL:https://www.gardfuneralhome.com/obituaries/thomas-burrowes
LOCATION:Sulphur Grove Church 7505 Taylorsville Rd  Dayton OH 45424
GEO:39.8610862;-84.0999845
END:VEVENT
END:VCALENDAR