BEGIN:VCALENDAR
VERSION:2.0
PRODID:-//Tukios.com/
BEGIN:VEVENT
UID:e790bdcf-bef3-41d5-b9e6-e95a596e9e60@www.gardfuneralhome.com
DTSTAMP:20260423T004204Z
DTSTART:20260502T190000Z
DTEND:20260502T200000Z
SUMMARY:Celebration of Life
DESCRIPTION:
URL:https://www.gardfuneralhome.com/obituaries/thomas-burrowes
LOCATION:Sulphur Grove Church 7505 Taylorsville Rd  Dayton OH 45424
GEO:39.8610862;-84.0999845
END:VEVENT
END:VCALENDAR