BEGIN:VCALENDAR
VERSION:2.0
PRODID:-//Tukios.com/
BEGIN:VEVENT
UID:9233e994-018a-4f7f-a075-1ee98815b8ef@www.gardfuneralhome.com
DTSTAMP:20260423T222322Z
DTSTART:20260516T170000Z
DTEND:20260516T200000Z
SUMMARY:Celebration of Life
DESCRIPTION:
URL:https://www.gardfuneralhome.com/obituaries/wanda-jones
LOCATION:Eaton Country Club 100 Morton Rd  Eaton OH 45320
GEO:39.7402525;-84.6407186
END:VEVENT
END:VCALENDAR